BEGIN:VCALENDAR
VERSION:2.0
PRODID:-//ADR Institute of British Columbia - ECPv6.15.20//NONSGML v1.0//EN
CALSCALE:GREGORIAN
METHOD:PUBLISH
X-ORIGINAL-URL:https://adrbc.com
X-WR-CALDESC:Events for ADR Institute of British Columbia
REFRESH-INTERVAL;VALUE=DURATION:PT1H
X-Robots-Tag:noindex
X-PUBLISHED-TTL:PT1H
BEGIN:VTIMEZONE
TZID:America/Vancouver
BEGIN:DAYLIGHT
TZOFFSETFROM:-0800
TZOFFSETTO:-0700
TZNAME:PDT
DTSTART:20200308T100000
END:DAYLIGHT
BEGIN:STANDARD
TZOFFSETFROM:-0700
TZOFFSETTO:-0800
TZNAME:PST
DTSTART:20201101T090000
END:STANDARD
BEGIN:DAYLIGHT
TZOFFSETFROM:-0800
TZOFFSETTO:-0700
TZNAME:PDT
DTSTART:20210314T100000
END:DAYLIGHT
BEGIN:STANDARD
TZOFFSETFROM:-0700
TZOFFSETTO:-0800
TZNAME:PST
DTSTART:20211107T090000
END:STANDARD
BEGIN:DAYLIGHT
TZOFFSETFROM:-0800
TZOFFSETTO:-0700
TZNAME:PDT
DTSTART:20220313T100000
END:DAYLIGHT
BEGIN:STANDARD
TZOFFSETFROM:-0700
TZOFFSETTO:-0800
TZNAME:PST
DTSTART:20221106T090000
END:STANDARD
END:VTIMEZONE
BEGIN:VEVENT
DTSTART;TZID=America/Vancouver:20210922T083000
DTEND;TZID=America/Vancouver:20210924T173000
DTSTAMP:20260424T041629
CREATED:20201202T180645Z
LAST-MODIFIED:20201202T180645Z
UID:2226-1632299400-1632504600@adrbc.com
SUMMARY:Mediation Training Program: Part 1
DESCRIPTION:[vc_row][vc_column][vc_column_text]Whether you are interested in a career as a professional Mediator or acquiring dispute resolution skills to assist or advance your existing career\, the National Mediation Training course is ideal to help you achieve your goals. \nThis two part course is strategically designed for Learners to integrate Part 1 into your work & personal life. It allows you time to practice\, reflect and ask questions as you come back to complete Part 2. In other words\, real learning in the real world![/vc_column_text][vc_btn title=”LEARN MORE” style=”custom” custom_background=”#2eb34d” custom_text=”#ffffff” size=”lg” align=”center” i_icon_fontawesome=”fas fa-edit” add_icon=”true” link=”url:https%3A%2F%2Fadrbc.com%2Fmediation-training-program%2F|target:_blank”][/vc_column][/vc_row]
URL:https://adrbc.com/event/mediation-training-program-part-1-2021-09-22/
LOCATION:300 - 1275 West 6th Avenue\, Vancouver\, British Columbia\, V6H 1A6\, Canada
CATEGORIES:Mediator Training Program
ATTACH;FMTTYPE=image/jpeg:https://adrbc.com/wp-content/uploads/2020/01/two-women-writing-on-the-white-board-1181531.jpg
END:VEVENT
END:VCALENDAR