BEGIN:VCALENDAR
VERSION:2.0
PRODID:-//ADR Institute of British Columbia - ECPv6.15.20//NONSGML v1.0//EN
CALSCALE:GREGORIAN
METHOD:PUBLISH
X-WR-CALNAME:ADR Institute of British Columbia
X-ORIGINAL-URL:https://adrbc.com
X-WR-CALDESC:Events for ADR Institute of British Columbia
REFRESH-INTERVAL;VALUE=DURATION:PT1H
X-Robots-Tag:noindex
X-PUBLISHED-TTL:PT1H
BEGIN:VTIMEZONE
TZID:America/Vancouver
BEGIN:DAYLIGHT
TZOFFSETFROM:-0800
TZOFFSETTO:-0700
TZNAME:PDT
DTSTART:20180311T100000
END:DAYLIGHT
BEGIN:STANDARD
TZOFFSETFROM:-0700
TZOFFSETTO:-0800
TZNAME:PST
DTSTART:20181104T090000
END:STANDARD
BEGIN:DAYLIGHT
TZOFFSETFROM:-0800
TZOFFSETTO:-0700
TZNAME:PDT
DTSTART:20190310T100000
END:DAYLIGHT
BEGIN:STANDARD
TZOFFSETFROM:-0700
TZOFFSETTO:-0800
TZNAME:PST
DTSTART:20191103T090000
END:STANDARD
BEGIN:DAYLIGHT
TZOFFSETFROM:-0800
TZOFFSETTO:-0700
TZNAME:PDT
DTSTART:20200308T100000
END:DAYLIGHT
BEGIN:STANDARD
TZOFFSETFROM:-0700
TZOFFSETTO:-0800
TZNAME:PST
DTSTART:20201101T090000
END:STANDARD
END:VTIMEZONE
BEGIN:VEVENT
DTSTART;TZID=America/Vancouver:20191126T120000
DTEND;TZID=America/Vancouver:20191126T133000
DTSTAMP:20260421T153658
CREATED:20200126T020701Z
LAST-MODIFIED:20200126T030145Z
UID:1211-1574769600-1574775000@adrbc.com
SUMMARY:Clearing the Fog: Plain Language Writing
DESCRIPTION:[vc_row][vc_column][vc_column_text]\nLunch & Learn with Frances Peck\n \nStudies repeatedly show what professional communicators have known for decades: the most concise\, precise\, credible\, and intelligent-sounding documents are the ones written in plain language. \nPlain language is not about dumbing down content. On the contrary\, plain language is a way of presenting complex material—legal\, judicial\, financial\, scientific\, technical—so that it’s easier for its intended audience to understand\, use\, remember\, and comply with.\nThis presentation explores why plain language matters\, what it looks like\, and how to get it.[/vc_column_text][/vc_column][/vc_row]
URL:https://adrbc.com/event/clearing-the-fog-plain-language-writing-2/
LOCATION:300 - 1275 West 6th Avenue\, Vancouver\, British Columbia\, V6H 1A6\, Canada
CATEGORIES:Past Workshops
ATTACH;FMTTYPE=image/jpeg:https://adrbc.com/wp-content/uploads/2020/01/Frances-2018-compressed1.jpg
END:VEVENT
BEGIN:VEVENT
DTSTART;TZID=America/Vancouver:20191101T000000
DTEND;TZID=America/Vancouver:20191101T133000
DTSTAMP:20260421T153658
CREATED:20200126T020505Z
LAST-MODIFIED:20200126T030152Z
UID:1207-1572566400-1572615000@adrbc.com
SUMMARY:Social Media Marketing for Mediators and Arbitrators
DESCRIPTION:Webinar with Natalie Armstrong-Motin\n\nGetting started with right social media platforms for mediators and arbitrators. Creating content that provides benefits to potential and existing clients while appropriately promoting your practice. Curating content from other sources so that you’re not always on the line to create to be creative. Using the right marketing tools – permission marketing is how we do it – I’ll show you how to do it right.
URL:https://adrbc.com/event/social-media-marketing-for-mediators-and-arbitrators/
LOCATION:Link will be sent the day before the event.\, Canada
CATEGORIES:Past Workshops
ATTACH;FMTTYPE=image/jpeg:https://adrbc.com/wp-content/uploads/2020/01/Natalie-Armstrong-Morin.jpg
END:VEVENT
BEGIN:VEVENT
DTSTART;TZID=America/Vancouver:20191004T000000
DTEND;TZID=America/Vancouver:20191004T133000
DTSTAMP:20260421T153658
CREATED:20200126T020433Z
LAST-MODIFIED:20200126T030200Z
UID:1205-1570147200-1570195800@adrbc.com
SUMMARY:Positioning and Pricing for ADR Practitioners
DESCRIPTION:Webinar with Natalie Armstrong-Motin\n\nWe’ll discuss the basics in building and managing your business.  Even if you already have a good handle on what needs to be done\, I’ll introduce you to easier ways to meet your goals and endeavors. We’ll also talk about the five marketing activities that have proven most effective.  We’ll discuss how to best position yourself to be the sought after writer\, speaker\, trainer\, networker and social media master.
URL:https://adrbc.com/event/positioning-and-pricing-for-adr-practitioners/
LOCATION:Link will be sent the day before the event.\, Canada
CATEGORIES:Past Workshops
ATTACH;FMTTYPE=image/jpeg:https://adrbc.com/wp-content/uploads/2020/01/Natalie-Armstrong-Morin.jpg
END:VEVENT
BEGIN:VEVENT
DTSTART;TZID=America/Vancouver:20190430T120000
DTEND;TZID=America/Vancouver:20190430T133000
DTSTAMP:20260421T153658
CREATED:20200126T020241Z
LAST-MODIFIED:20200126T030215Z
UID:1199-1556625600-1556631000@adrbc.com
SUMMARY:Self-Awareness Driven Leadership and the ADR Practitioner
DESCRIPTION:Lunch & Learn with Rob Hershorn\n \nDr. Rob Hershorn\, PhD\, is the Principal at RJ Consulting\, which provides dynamic professional onsite and remote organizational development\, training\, and instructional design. His peopled-centred approach to enhancing workplace culture utilizes the most advanced strategic\, analytical and innovative facilitation/training and coaching techniques to transform interpersonal dynamics from conflict to resolution.
URL:https://adrbc.com/event/self-awareness-driven-leadership-and-the-adr-practitioner/
LOCATION:300 - 1275 West 6th Avenue\, Vancouver\, British Columbia\, V6H 1A6\, Canada
CATEGORIES:Past Workshops
ATTACH;FMTTYPE=image/jpeg:https://adrbc.com/wp-content/uploads/2020/01/RobHershorn.jpg
END:VEVENT
BEGIN:VEVENT
DTSTART;TZID=America/Vancouver:20190129T000000
DTEND;TZID=America/Vancouver:20190129T133000
DTSTAMP:20260421T153658
CREATED:20200126T020158Z
LAST-MODIFIED:20200126T030221Z
UID:1193-1548720000-1548768600@adrbc.com
SUMMARY:A Lawyer’s Primer on Drafting Arbitration Clauses
DESCRIPTION:Lunch & Learn with Kenneth J. Glasner\n \nKenneth J. Glasner\, QC\, is an experienced mediator and arbitrator based in Vancouver. He has practiced as a neutral since 1967 and was appointed as a federal Queen’s Counsel in 1990. Ken has been involved in many disputes over a range of civil matters as a neutral. He has also been a frequent lecturer and panel member\, speaking on subjects dealing with ADR and designing mediation systems in Canada and the USA.
URL:https://adrbc.com/event/a-lawyers-primer-on-drafting-arbitration-clauses/
LOCATION:300 - 1275 West 6th Avenue\, Vancouver\, British Columbia\, V6H 1A6\, Canada
CATEGORIES:Past Workshops
ATTACH;FMTTYPE=image/jpeg:https://adrbc.com/wp-content/uploads/2020/01/glasner.jpg
END:VEVENT
END:VCALENDAR