BEGIN:VCALENDAR
VERSION:2.0
PRODID:-//ADR Institute of British Columbia - ECPv6.15.20//NONSGML v1.0//EN
CALSCALE:GREGORIAN
METHOD:PUBLISH
X-WR-CALNAME:ADR Institute of British Columbia
X-ORIGINAL-URL:https://adrbc.com
X-WR-CALDESC:Events for ADR Institute of British Columbia
REFRESH-INTERVAL;VALUE=DURATION:PT1H
X-Robots-Tag:noindex
X-PUBLISHED-TTL:PT1H
BEGIN:VTIMEZONE
TZID:America/Vancouver
BEGIN:DAYLIGHT
TZOFFSETFROM:-0800
TZOFFSETTO:-0700
TZNAME:PDT
DTSTART:20230312T100000
END:DAYLIGHT
BEGIN:STANDARD
TZOFFSETFROM:-0700
TZOFFSETTO:-0800
TZNAME:PST
DTSTART:20231105T090000
END:STANDARD
BEGIN:DAYLIGHT
TZOFFSETFROM:-0800
TZOFFSETTO:-0700
TZNAME:PDT
DTSTART:20240310T100000
END:DAYLIGHT
BEGIN:STANDARD
TZOFFSETFROM:-0700
TZOFFSETTO:-0800
TZNAME:PST
DTSTART:20241103T090000
END:STANDARD
BEGIN:DAYLIGHT
TZOFFSETFROM:-0800
TZOFFSETTO:-0700
TZNAME:PDT
DTSTART:20250309T100000
END:DAYLIGHT
BEGIN:STANDARD
TZOFFSETFROM:-0700
TZOFFSETTO:-0800
TZNAME:PST
DTSTART:20251102T090000
END:STANDARD
END:VTIMEZONE
BEGIN:VEVENT
DTSTART;VALUE=DATE:20240501
DTEND;VALUE=DATE:20240504
DTSTAMP:20260422T043209
CREATED:20231213T164924Z
LAST-MODIFIED:20231213T164924Z
UID:3305-1714521600-1714780799@adrbc.com
SUMMARY:Mediation Training Program Part II
DESCRIPTION:Whether you are interested in a career as a professional Mediator or acquiring dispute resolution skills to assist or advance your existing career\, the National Introductory Mediation Course (NIMC) is ideal for helping you achieve your goals. \nThis two-part course is strategically designed for learners to integrate Part I into their work & personal life. It allows them time to practice\, reflect and ask questions as they come back to complete Part II. In other words\, real learning in the real world! \nClick here to read more and to register.
URL:https://adrbc.com/event/mediation-training-program-part-ii/
CATEGORIES:Mediator Training Program
ATTACH;FMTTYPE=image/png:https://adrbc.com/wp-content/uploads/2023/11/11-e1701146267838.png
END:VEVENT
BEGIN:VEVENT
DTSTART;VALUE=DATE:20240603
DTEND;VALUE=DATE:20240605
DTSTAMP:20260422T043209
CREATED:20231213T164551Z
LAST-MODIFIED:20240116T214234Z
UID:3301-1717372800-1717545599@adrbc.com
SUMMARY:ADRBC Symposium 2024
DESCRIPTION:Network\, learn\, and be on the cutting edge of ADR! The 2024 ADRBC Symposium will bring together a progressive\, dynamic group of professionals including arbitrators\, mediators\, lawyers\, in-house counsels\, HR professionals\, corporate and other users of ADR services. The eclectic line-up of speakers presenting at the 2024 ADRBC Symposium will explore a wide variety of topics. \nClick here to read more and to register.
URL:https://adrbc.com/event/adrbc-symposium-2024/
CATEGORIES:Symposium
ATTACH;FMTTYPE=image/jpeg:https://adrbc.com/wp-content/uploads/2020/01/9163127_ml.jpg
END:VEVENT
END:VCALENDAR