BEGIN:VCALENDAR
VERSION:2.0
PRODID:-//ADR Institute of British Columbia - ECPv6.15.20//NONSGML v1.0//EN
CALSCALE:GREGORIAN
METHOD:PUBLISH
X-ORIGINAL-URL:https://adrbc.com
X-WR-CALDESC:Events for ADR Institute of British Columbia
REFRESH-INTERVAL;VALUE=DURATION:PT1H
X-Robots-Tag:noindex
X-PUBLISHED-TTL:PT1H
BEGIN:VTIMEZONE
TZID:America/Vancouver
BEGIN:DAYLIGHT
TZOFFSETFROM:-0800
TZOFFSETTO:-0700
TZNAME:PDT
DTSTART:20230312T100000
END:DAYLIGHT
BEGIN:STANDARD
TZOFFSETFROM:-0700
TZOFFSETTO:-0800
TZNAME:PST
DTSTART:20231105T090000
END:STANDARD
BEGIN:DAYLIGHT
TZOFFSETFROM:-0800
TZOFFSETTO:-0700
TZNAME:PDT
DTSTART:20240310T100000
END:DAYLIGHT
BEGIN:STANDARD
TZOFFSETFROM:-0700
TZOFFSETTO:-0800
TZNAME:PST
DTSTART:20241103T090000
END:STANDARD
BEGIN:DAYLIGHT
TZOFFSETFROM:-0800
TZOFFSETTO:-0700
TZNAME:PDT
DTSTART:20250309T100000
END:DAYLIGHT
BEGIN:STANDARD
TZOFFSETFROM:-0700
TZOFFSETTO:-0800
TZNAME:PST
DTSTART:20251102T090000
END:STANDARD
END:VTIMEZONE
BEGIN:VEVENT
DTSTART;VALUE=DATE:20240415
DTEND;VALUE=DATE:20240625
DTSTAMP:20260421T035118
CREATED:20231213T165339Z
LAST-MODIFIED:20231213T165339Z
UID:3307-1713139200-1719273599@adrbc.com
SUMMARY:Online Arbitrator Training Course
DESCRIPTION:ADRBC\, in partnership with Royal Roads University is offering another option for those outside of BC`s Lower Mainland region\, or busy professionals who cannot attend the Arbitrator Training Course in person. \nThe course will provide an introduction to the basic principles of law governing contract law and selected types of contracts.  This is of primary value to non-lawyers and provides a refresher course for the lawyers enrolled.    There follows an intensive review of the conduct of arbitration proceedings\, including an in-depth review of the BC Arbitration Act and the commonly used rules of procedure.  The special provisions governing Family arbitration are also elucidated. \nClick here to read more and to register.
URL:https://adrbc.com/event/online-arbitrator-training-course-2/
LOCATION:Online Zoom Video
CATEGORIES:Arbitrator Training Course
ATTACH;FMTTYPE=image/jpeg:https://adrbc.com/wp-content/uploads/2020/01/person-using-macbook-374720-e1580083141261.jpg
END:VEVENT
END:VCALENDAR