BEGIN:VCALENDAR
VERSION:2.0
PRODID:-//ADR Institute of British Columbia - ECPv6.15.20//NONSGML v1.0//EN
CALSCALE:GREGORIAN
METHOD:PUBLISH
X-WR-CALNAME:ADR Institute of British Columbia
X-ORIGINAL-URL:https://adrbc.com
X-WR-CALDESC:Events for ADR Institute of British Columbia
REFRESH-INTERVAL;VALUE=DURATION:PT1H
X-Robots-Tag:noindex
X-PUBLISHED-TTL:PT1H
BEGIN:VTIMEZONE
TZID:America/Vancouver
BEGIN:DAYLIGHT
TZOFFSETFROM:-0800
TZOFFSETTO:-0700
TZNAME:PDT
DTSTART:20210314T100000
END:DAYLIGHT
BEGIN:STANDARD
TZOFFSETFROM:-0700
TZOFFSETTO:-0800
TZNAME:PST
DTSTART:20211107T090000
END:STANDARD
BEGIN:DAYLIGHT
TZOFFSETFROM:-0800
TZOFFSETTO:-0700
TZNAME:PDT
DTSTART:20220313T100000
END:DAYLIGHT
BEGIN:STANDARD
TZOFFSETFROM:-0700
TZOFFSETTO:-0800
TZNAME:PST
DTSTART:20221106T090000
END:STANDARD
BEGIN:DAYLIGHT
TZOFFSETFROM:-0800
TZOFFSETTO:-0700
TZNAME:PDT
DTSTART:20230312T100000
END:DAYLIGHT
BEGIN:STANDARD
TZOFFSETFROM:-0700
TZOFFSETTO:-0800
TZNAME:PST
DTSTART:20231105T090000
END:STANDARD
END:VTIMEZONE
BEGIN:VEVENT
DTSTART;TZID=America/Vancouver:20220621T090000
DTEND;TZID=America/Vancouver:20220621T120000
DTSTAMP:20260422T013653
CREATED:20220104T223107Z
LAST-MODIFIED:20220104T234337Z
UID:2590-1655802000-1655812800@adrbc.com
SUMMARY:Virtual Conflict Management Coaching Workshop
DESCRIPTION:[vc_row][vc_column][vc_column_text]Conflict management coaching\, also known as conflict coaching\, is a specialized niche in the field of coaching and conflict management.  It is a process in which a trained coach assists people on a one-on-one basis to effectively manage their interpersonal disputes and enhance their conflict management skills.  This technique may also be used to coach people to more confidently and effectively participate in mediation\, negotiation and relational conflicts. \nOutcomes of the Conflict Management Coaching Workshop: \nThe outcomes of this workshop are that participants will gain: \n\nthe theory\, principles and methods specific to the CINERGY® model of conflict management coaching;\nan introduction to and basic working knowledge of conflict management coaching using the CINERGY® model;\nan understanding of the types of skills required to provide conflict management coaching;\nexperience of the coaching model as a coach\, ‘client’ and observer;\nknowledge of the applications of this technique; and\nsuggested documents and information about the logistics of conflict management coaching.\n\nMethods Used in the Workshop: \nThrough skills practices\, demonstrations\, self-reflection and discussion\, participants develop and practice conflict management coaching techniques and skills. \nParticipants: \nThe training will be of specific interest to coaches\, workplace\, family and other mediators (interpersonal conflicts)\, HR Professionals\, lawyers and others who work with people in conflict. \nAccreditation: \nThis workshop has been approved for 30 hours of Continuing Coaching Education Units (CCEUs) from the International Coaching Federation. If you complete the preparatory reading & brief questionnaire\, you will receive 2 extra Resource Development units for a total of 32 CCEUs. \nMediator graduates from Canada may apply the hours towards the educational component of the QMed and CMed designations (in accordance with the ADR Institute of Canada). Mediators from outside Canada may also apply to use the hours toward continuing education units. \nCINERGY® is an approved SHRM Recertification Provider and this program is valid for 30 PDCs for the SHRM-CP or SHRM-SCP. \nDates:                           June 20-July 12\, 2022 according to the Session Schedule (PDF) \nTimes:                           9:00 a.m. – 12:00 noon PT (3 hours per session)  \n                                    (Skills practices between two classes – see Session Schedule) \nLocation:                       By Zoom – links and passwords will be sent each week \n(required: computer\, good bandwidth\, webcam\, audio & headset recommended) \nRegistration Deadline:       May 20\, 2022 (full payment required) \nWorkshop Cost:               ADRBC Members:  $3\,350.00 + GST  \n                                       Non Members:       $3\,500.00 + GST \nPLUS \n** Participants are asked to purchase the book “Conflict Management Coaching: The CINERGY Model”. Options to purchase may be found at: http://www.cinergycoaching.com/conflict-management-coaching-cinergy-model/ \nCertification – Becoming a CINERGY® Certified Conflict Management Coach \nWorkshop participants have the option of being assessed to become a CINERGY® Certified Conflict Management Coach.  This assessment takes place after the workshop\, once participants have practiced the model. Assessment criteria are according to core competencies provided at the training. This is arranged directly with CINERGY after the workshop. Assessment Cost:         $350.00 CDN (plus 13% HST* = $395.50 CDN) \nNOTE: Following the Conflict Management Coaching Workshop\, participants who complete the workshop may choose to receive a free monthly newsletter from CINERGY Coaching called “CINERGEMS” and will be invited to participate in Teletalks conducted by CINERGY Coaching through Zoom. \nCINERGY® Conflict Management Coaching = Peacebuilding\, One Person at a Time \nThis workshop was designed by Cinnie Noble\, LL.B.\, LL.M. (DR) who is a certified coach (PCC) and mediator (C.Med) and former lawyer. Cinnie is a pioneer in the field of conflict management coaching and the founder of the CINERGY® model\, which is taught worldwide.  She is author of Conflict Management Coaching: The CINERGY™ Model (http://www.cinergycoaching.com/conflict-management-coaching-book/) and Conflict Mastery: Questions to Guide You(http://www.cinergycoaching.com/conflict-mastery-questions-guide/). For further information on CINERGY\, feel free to visit www.cinergycoaching.com.[/vc_column_text][vc_btn title=”REGISTER NOW” style=”custom” custom_background=”#2eb34d” custom_text=”#ffffff” align=”center” i_icon_fontawesome=”far fa-calendar-alt” button_block=”true” add_icon=”true” link=”url:https%3A%2F%2Fmbr.adric.ca%2FADRBC%2FEvents%2FEvent_Display%3FEventKey%3DBCCMCW|target:_blank”][/vc_column][/vc_row]
URL:https://adrbc.com/event/virtual-conflict-management-coaching-workshop-2022-06-21/
LOCATION:Online Zoom Video
CATEGORIES:Workshops
ATTACH;FMTTYPE=image/jpeg:https://adrbc.com/wp-content/uploads/2022/01/cmc-cover-model-sm.jpeg
END:VEVENT
END:VCALENDAR