BEGIN:VCALENDAR
VERSION:2.0
PRODID:-//ADR Institute of British Columbia - ECPv6.15.20//NONSGML v1.0//EN
CALSCALE:GREGORIAN
METHOD:PUBLISH
X-WR-CALNAME:ADR Institute of British Columbia
X-ORIGINAL-URL:https://adrbc.com
X-WR-CALDESC:Events for ADR Institute of British Columbia
REFRESH-INTERVAL;VALUE=DURATION:PT1H
X-Robots-Tag:noindex
X-PUBLISHED-TTL:PT1H
BEGIN:VTIMEZONE
TZID:America/Vancouver
BEGIN:DAYLIGHT
TZOFFSETFROM:-0800
TZOFFSETTO:-0700
TZNAME:PDT
DTSTART:20200308T100000
END:DAYLIGHT
BEGIN:STANDARD
TZOFFSETFROM:-0700
TZOFFSETTO:-0800
TZNAME:PST
DTSTART:20201101T090000
END:STANDARD
BEGIN:DAYLIGHT
TZOFFSETFROM:-0800
TZOFFSETTO:-0700
TZNAME:PDT
DTSTART:20210314T100000
END:DAYLIGHT
BEGIN:STANDARD
TZOFFSETFROM:-0700
TZOFFSETTO:-0800
TZNAME:PST
DTSTART:20211107T090000
END:STANDARD
BEGIN:DAYLIGHT
TZOFFSETFROM:-0800
TZOFFSETTO:-0700
TZNAME:PDT
DTSTART:20220313T100000
END:DAYLIGHT
BEGIN:STANDARD
TZOFFSETFROM:-0700
TZOFFSETTO:-0800
TZNAME:PST
DTSTART:20221106T090000
END:STANDARD
END:VTIMEZONE
BEGIN:VEVENT
DTSTART;TZID=America/Vancouver:20210607T090000
DTEND;TZID=America/Vancouver:20210608T170000
DTSTAMP:20260424T123359
CREATED:20201202T180243Z
LAST-MODIFIED:20210604T203311Z
UID:2212-1623056400-1623171600@adrbc.com
SUMMARY:2021 ADRBC Symposium
DESCRIPTION:[vc_row][vc_column][vc_column_text]\nNetwork\, learn\, and be on the cutting edge of ADR! The 2021 ADRBC Symposium will bring together a progressive\, dynamic group of professionals including arbitrators\, mediators\, lawyers\, in-house counsels\, HR professionals\, corporate and other users of ADR services. The eclectic line-up of speakers presenting at the 2021 ADRBC Symposium will explore a wide variety of topics.\n\nNetwork\, learn\, and be on the cutting edge of ADR! The 2021 ADRBC Symposium will bring together a progressive\, dynamic group of professionals including arbitrators\, mediators\, lawyers\, in-house counsels\, HR professionals\, corporate and other users of ADR services. The eclectic line-up of speakers presenting at the 2021 ADRBC Symposium will explore a wide variety of topics. \nPricing Member $150 | Non-Member $200 \nPlease note that registration is now closed. Thanks for another great turnout! \n\n[/vc_column_text][/vc_column][/vc_row]
URL:https://adrbc.com/event/2021-adrbc-symposium/
LOCATION:300 - 1275 West 6th Avenue\, Vancouver\, British Columbia\, V6H 1A6\, Canada
CATEGORIES:Symposium
ATTACH;FMTTYPE=image/jpeg:https://adrbc.com/wp-content/uploads/2020/01/symposium2018-1-1-scaled.jpg
END:VEVENT
END:VCALENDAR